BEGIN:VCALENDAR
VERSION:2.0
PRODID:-//Volt Europa//Events//EN
CALSCALE:GREGORIAN
METHOD:PUBLISH
BEGIN:VEVENT
UID:20230111-meetgreetbxl-1704994200@voltbelgium.org
DTSTAMP:20260425T173109Z
DTSTART;TZID=Europe/Amsterdam:20240111T183000
DTEND;TZID=Europe/Amsterdam:20240111T220000
SUMMARY:Meet & Greet Etterbeek
DESCRIPTION:Het is tijd voor de volgende Meet & Greet in Etterbeek! Binnen 
 in het warme Vin Sur Wijn zullen wij samen komen. Deel een drankje met betr
 okken Volters en praat over de politiek\, of pitch je nieuwste democratisch
 e innovatieve ideeën aan onze kandidaten. We zien je op donderdagavond! En
  breng je vrienden\, collega's en familie mee\, want iedereen is welkom!
LOCATION:Vin Sur Wijn\, Av. de l'Armée 6\, 1040 Etterbeek
URL:https://voltbelgie.org/agenda/20230111-meetgreetbxl
END:VEVENT
END:VCALENDAR
