BEGIN:VCALENDAR
VERSION:2.0
PRODID:-//Volt Europa//Events//EN
CALSCALE:GREGORIAN
METHOD:PUBLISH
BEGIN:VEVENT
UID:20230927-flanders-policy-event-in-leuven-1695808800@voltbelgium.org
DTSTAMP:20260424T035343Z
DTSTART;TZID=Europe/Amsterdam:20230927T120000
DTEND;TZID=Europe/Amsterdam:20230927T200000
SUMMARY:Flanders 2040: Electoral Program Event in Leuven
DESCRIPTION:This event will be in Dutch. Een lange-termijn visie voor Vlaan
 deren met een Europese insteek! Daar gaan we het over hebben op ons interac
 tief beleidsevenement in Leuven op 27 september. Hoe kunnen goede Europese 
 voorbeelden zoals fietsinfrastructuur in Utrecht en betaalbare woonprogramm
 a's in Wenen inspirerend zijn voor regionaal Vlaams beleid? De volgende top
 ics zullen aan bod komen tijdens het evenement: Overzicht top prioritieten 
 Volt België voor Vlaamse verkiezingen 2040 op basis van het co
LOCATION:KU Leuven Tiensestraat Psychologisch Instituut Auditorium Michotte
URL:https://voltbelgie.org/agenda/20230927-flanders-policy-event-in-leuven
END:VEVENT
END:VCALENDAR
