BEGIN:VCALENDAR
VERSION:2.0
PRODID:-//Volt Europa//Events//EN
CALSCALE:GREGORIAN
METHOD:PUBLISH
BEGIN:VEVENT
UID:20231014-koekelberg-tipsy-tribe-1697292000@voltbelgium.org
DTSTAMP:20260424T073335Z
DTSTART;TZID=Europe/Amsterdam:20231014T160000
DTEND;TZID=Europe/Amsterdam:20231014T173000
SUMMARY:Koekelberg Tipsy Tribe
DESCRIPTION:Our first gathering in Koekelberg is just around the corner! Ma
 rk your calendars for Saturday\, October 14th\, from 16:00 to 17:30. We're 
 excited to take you to Tipsy Tribe\, a budding brewery with a mission to br
 ew using locally-sourced grains and collaborate with nearby urban farmers t
 o recycle waste products. They're also dedicated to maximizing their use of
  renewable energy. During our visit\, you'll get a brief tour of their faci
 lity\, enjoy drinks of your choice from their à la carte menu\, and 
LOCATION:Tipsy Tribe - Chaussée De Jette 374\, 1081 Koekelberg
URL:https://voltbelgie.org/agenda/20231014-koekelberg-tipsy-tribe
END:VEVENT
END:VCALENDAR
