BEGIN:VCALENDAR
VERSION:2.0
PRODID:-//Volt Europa//Events//EN
CALSCALE:GREGORIAN
METHOD:PUBLISH
BEGIN:VEVENT
UID:20231028-ga-1698476400@voltbelgium.org
DTSTAMP:20260424T075110Z
DTSTART;TZID=Europe/Amsterdam:20231028T090000
DTEND;TZID=Europe/Amsterdam:20231028T180000
SUMMARY:Volt Belgium General Assembly
DESCRIPTION:Dear Members and Supporters of Volt\, the Executive Committee a
 nd the Electoral Board of Volt Belgium are delighted to invite you to the A
 utumn General Assembly of Volt Belgium in Brussels. When: 28.10.2023 (09h00
  to 18h00) Where: Brussels (exact location to be communicated. Preliminary 
 Program Election of lead candidates for the 2024 June elections Street acti
 on! A full programme is to be published soon. We are looking forward to see
 ing you numerous and to bring the campaign to the next level! W
LOCATION:Brussels (location tbd)
URL:https://voltbelgie.org/agenda/20231028-ga
END:VEVENT
END:VCALENDAR
