BEGIN:VCALENDAR
VERSION:2.0
PRODID:-//Volt Europa//Events//EN
CALSCALE:GREGORIAN
METHOD:PUBLISH
BEGIN:VEVENT
UID:20231129-klimaatmars-1701603000@voltbelgium.org
DTSTAMP:20260423T180301Z
DTSTART;TZID=Europe/Amsterdam:20231203T123000
DTEND;TZID=Europe/Amsterdam:20231203T160000
SUMMARY:Klimaatmars Brussel!
DESCRIPTION:Volt België heeft jou nodig! Aanstaande zondag (03/12) marcher
 en we samen voor onze planeet en onze toekomst door deel te nemen aan de Br
 usselse klimaatmars. Wij zijn de enige pan-Europese klimaatpartij\, en aldu
 s is onze stem cruciaal. Kom in het paars gekleed en zorg dat onze aanwezig
 heid niet te missen is. Het gaat meer dan een mars worden\; het is een stat
 ement voor groene energie\, natuurherstel en duurzame landbouw. Verandering
  is dringend nodig. Let's go\, Volt! Verzamelpunt:  zondag 3 decemb
LOCATION:Avenue Albert II laan
URL:https://voltbelgie.org/agenda/20231129-klimaatmars
END:VEVENT
END:VCALENDAR
