BEGIN:VCALENDAR
VERSION:2.0
PRODID:-//Volt Europa//Events//EN
CALSCALE:GREGORIAN
METHOD:PUBLISH
BEGIN:VEVENT
UID:20231219-meetgreetbxl-1703007000@voltbelgium.org
DTSTAMP:20260421T095150Z
DTSTART;TZID=Europe/Amsterdam:20231219T183000
DTEND;TZID=Europe/Amsterdam:20231219T220000
SUMMARY:Meet & Greet Brussels
DESCRIPTION:Join us to Winter Wonders Brussels and get to know Volt in a fe
 stive setting. Everyone is welcome to join.
LOCATION:Winter Wonders Brussels
URL:https://voltbelgium.org/events/20231219-meetgreetbxl
END:VEVENT
END:VCALENDAR
