BEGIN:VCALENDAR
VERSION:2.0
PRODID:-//Volt Europa//Events//EN
CALSCALE:GREGORIAN
METHOD:PUBLISH
BEGIN:VEVENT
UID:20240206-timeto-1707240600@voltbelgium.org
DTSTAMP:20260423T175801Z
DTSTART;TZID=Europe/Amsterdam:20240206T183000
DTEND;TZID=Europe/Amsterdam:20240206T200000
SUMMARY:Volt goes to 'Time to gear up - Time for a European Federation'
DESCRIPTION:This is an external event visited by Volt\, but which is not or
 ganised by Volt. Including Suzana Carp as a speaker! Info from their websit
 e: A few months before the European Parliament elections of 2024\, Europe i
 s facing big threats\, challenges and opportunities. The Russian aggression
  against Ukraine continues\, which is also an aggression against European v
 alues and interests. Further funding of Ukraine by the U.S. is put in quest
 ion\, especially in view of a possible new Donald Trump presidency 
LOCATION:Ukrainian Civil Society Hub\, Place du Luxembourg 1050 Brussels
URL:https://voltbelgium.org/events/20240206-timeto
END:VEVENT
END:VCALENDAR
