BEGIN:VCALENDAR
VERSION:2.0
PRODID:-//Volt Europa//Events//EN
CALSCALE:GREGORIAN
METHOD:PUBLISH
BEGIN:VEVENT
UID:20240213-namur-1707845400@voltbelgium.org
DTSTAMP:20260423T175822Z
DTSTART;TZID=Europe/Amsterdam:20240213T183000
DTEND;TZID=Europe/Amsterdam:20240213T183000
SUMMARY:Meet & Greet Namur (FR)
DESCRIPTION:📆 13/02 - 18h30 📍 Café Extérieur Nuit Tu ne connais pas
  Volt mais tu cherches une nouveauté en politique ? T’en as entendu parl
 er mais tu ne sais pas précisément de quoi il s’agit ? Tu connais Volt 
 déjà très bien et t’as envie d’échanger avec des personnes qui part
 agent les mêmes valeurs que toi ? Quelle que ce soit ta réponse\, viens n
 ous rencontrer à Namur ce mardi 13/02 à 18h30\, au café Extérieur Nuit 
 (Pl. Chanoine Deschamps 6) pour connaître nos membres\, nos candidats et n
 os valeurs\, et discu
LOCATION:Café Extérieur Nuit - Pl. Chanoine Deschamps 6
URL:https://voltbelgium.org/events/20240213-namur
END:VEVENT
END:VCALENDAR
