BEGIN:VCALENDAR
VERSION:2.0
PRODID:-//Volt Europa//Events//EN
CALSCALE:GREGORIAN
METHOD:PUBLISH
BEGIN:VEVENT
UID:20240220-meetgreetbxl-1708450200@voltbelgium.org
DTSTAMP:20260423T140252Z
DTSTART;TZID=Europe/Amsterdam:20240220T183000
DTEND;TZID=Europe/Amsterdam:20240220T220000
SUMMARY:Discussion Evening BXL
DESCRIPTION:Empathy in Action Navigating Sustainable Governance for global 
 impact Curious about how can empathy drive sustainable governance for globa
 l impact? About the role of effective governance and legislative initiative
 s for achieving SDG's? Get insights from our candidates and distinguished g
 uests! Speakers Suzana Carp Lead Volt candidate (FR) in the European Parlia
 ment elections Ciprian Stanescu President of Social Innovation Solutions Di
 ana Andrei Sustainability Governance Expert at Amfori & DEI le
LOCATION:Café Merlo\, Quai aux Briques 80\, 1000 Bruxelles (upstairs)
URL:https://voltbelgium.org/events/20240220-meetgreetbxl
END:VEVENT
END:VCALENDAR
