BEGIN:VCALENDAR
VERSION:2.0
PRODID:-//Volt Europa//Events//EN
CALSCALE:GREGORIAN
METHOD:PUBLISH
BEGIN:VEVENT
UID:20240226-volt-connect-1708974000@voltbelgium.org
DTSTAMP:20260423T175801Z
DTSTART;TZID=Europe/Amsterdam:20240226T200000
DTEND;TZID=Europe/Amsterdam:20240226T203000
SUMMARY:Volt Connect (Francophone)
DESCRIPTION:Volt Connect is the moment for our members to connect with our 
 campaign leads and candidates. Join and get to know more about Volt and how
  you can help!
LOCATION:Online
URL:https://voltbelgium.org/events/20240226-volt-connect
END:VEVENT
END:VCALENDAR
