BEGIN:VCALENDAR
VERSION:2.0
PRODID:-//Volt Europa//Events//EN
CALSCALE:GREGORIAN
METHOD:PUBLISH
BEGIN:VEVENT
UID:20240227-lvant-1709058600@voltbelgium.org
DTSTAMP:20260423T175751Z
DTSTART;TZID=Europe/Amsterdam:20240227T193000
DTEND;TZID=Europe/Amsterdam:20240227T210000
SUMMARY:Lokale Vergadering Antwerpen (NL)
DESCRIPTION:Meer info in de Antwerpen nieuwsbrief.
LOCATION:ViaVia Reiscafé\, Wolstraat 43\, Antwerpen
URL:https://voltbelgium.org/events/20240227-lvant
END:VEVENT
END:VCALENDAR
