BEGIN:VCALENDAR
VERSION:2.0
PRODID:-//Volt Europa//Events//EN
CALSCALE:GREGORIAN
METHOD:PUBLISH
BEGIN:VEVENT
UID:20240312-mg-1710264600@voltbelgium.org
DTSTAMP:20260423T105056Z
DTSTART;TZID=Europe/Amsterdam:20240312T183000
DTEND;TZID=Europe/Amsterdam:20240312T220000
SUMMARY:Meet & Greet Brussels in Café Merlo
DESCRIPTION:It is time for another Meet & Greet in the heart of Brussels! U
 pstairs at Café Merlo in the cozy Dansaert area\, you will find a warm hot
  spot. Share a drink and talk politics with engaged Volters and pitch your 
 newest democratic innovative ideas to our candidates. We will see you on th
 e night\, and bring your friends\, colleagues and family. Everyone is welco
 me!
LOCATION:Café Merlo\, Quai aux Briques 80\, Brussels 1000 (upstairs)
URL:https://voltbelgium.org/events/20240312-mg
END:VEVENT
END:VCALENDAR
