BEGIN:VCALENDAR
VERSION:2.0
PRODID:-//Volt Europa//Events//EN
CALSCALE:GREGORIAN
METHOD:PUBLISH
BEGIN:VEVENT
UID:20240316-ga-1710577800@voltbelgium.org
DTSTAMP:20260423T215500Z
DTSTART;TZID=Europe/Amsterdam:20240316T093000
DTEND;TZID=Europe/Amsterdam:20240316T173000
SUMMARY:General Assembly - Volt Belgium 16-03-2024
DESCRIPTION:Practicalities Date: 16th of March 2024 Start time: registratio
 n starts at 09:30\, GA itself starts from 10:00 End time: estimated finish 
 at 17:30 Location: UAntwerp\, Hof Van Liere\, Antwerp Topics: Election of B
 oard of Administrators Announcement of complete European Parliament Lists o
 f candidates Debates on hot political topics Antwerp Activity Agenda: https
 ://drive.google.com/file/d/1wTKUGGoSS6VAwyAUoqH5ZrupHbXYAn6N/view
LOCATION:UAntwerp\, Hof Van Liere\, Antwerp
URL:https://voltbelgium.org/events/20240316-ga
END:VEVENT
END:VCALENDAR
