BEGIN:VCALENDAR
VERSION:2.0
PRODID:-//Volt Europa//Events//EN
CALSCALE:GREGORIAN
METHOD:PUBLISH
BEGIN:VEVENT
UID:20240416-meetgreetbxl-nl-1706635800@voltbelgium.org
DTSTAMP:20260423T105324Z
DTSTART;TZID=Europe/Amsterdam:20240130T183000
DTEND;TZID=Europe/Amsterdam:20240130T220000
SUMMARY:Meet & Greet Brussel
DESCRIPTION:Het is tijd voor de volgende Meet & Greet in het hart van Bruss
 el! Boven bij Café Merlo in de gezellige Dansaert buurt vind je een warme 
 ontmoetingsplek. Deel een drankje met betrokken Volters en praat over de po
 litiek\, of pitch je nieuwste democratische innovatieve ideeën aan onze ka
 ndidaten. We zien je op dinsdagavond! En breng je vrienden\, collega's en f
 amilie mee\, want iedereen is welkom!
LOCATION:Café Merlo\, Baksteenkaai 80\, 1000 Brussel
URL:https://voltbelgie.org/agenda/20240416-meetgreetbxl-nl
END:VEVENT
END:VCALENDAR
