BEGIN:VCALENDAR
VERSION:2.0
PRODID:-//Volt Europa//Events//EN
CALSCALE:GREGORIAN
METHOD:PUBLISH
BEGIN:VEVENT
UID:20240424-meetgreetleuven-nl-1713976200@voltbelgium.org
DTSTAMP:20260423T121504Z
DTSTART;TZID=Europe/Amsterdam:20240424T183000
DTEND;TZID=Europe/Amsterdam:20240424T220000
SUMMARY:Meet & Greet Leuven
DESCRIPTION:Het is tijd voor de volgende Meet & Greet in Leuven!  Deel een 
 drankje betrokken Volters en praat over de politiek\, of pitch je nieuwste 
 democratische innovatieve ideeën aan onze kandidaten. We zien je op woensd
 aggavond! En breng je vrienden\, collega's en familie mee\, want iedereen i
 s welkom!
LOCATION:Tempo Cafe\, Baron August de Becker Remyplein 52\, 3010 Leuven
URL:https://voltbelgie.org/agenda/20240424-meetgreetleuven-nl
END:VEVENT
END:VCALENDAR
