BEGIN:VCALENDAR
VERSION:2.0
PRODID:-//Volt Europa//Events//EN
CALSCALE:GREGORIAN
METHOD:PUBLISH
BEGIN:VEVENT
UID:20240528-meetgreetbxl-nl-1716913800@voltbelgium.org
DTSTAMP:20260422T003114Z
DTSTART;TZID=Europe/Amsterdam:20240528T183000
DTEND;TZID=Europe/Amsterdam:20240528T220000
SUMMARY:Meet & Greet Brussel
DESCRIPTION:Het is tijd voor de volgende Meet & Greet in het hart van Bruss
 el! Boven bij Café Merlo in de gezellige Dansaert buurt vind je een warme 
 ontmoetingsplek. Deel een drankje met enkele van onze kandidaten\, betrokke
 n Volters en praat over de politiek\, of pitch je nieuwste democratische in
 novatieve ideeën aan onze kandidaten. We zien je op dinsdagavond! En breng
  je vrienden\, collega's en familie mee\, want iedereen is welkom!
LOCATION:Café Merlo\, Baksteenkaai 80\, 1000 Brussel
URL:https://voltbelgie.org/agenda/20240528-meetgreetbxl-nl
END:VEVENT
END:VCALENDAR
