BEGIN:VCALENDAR
VERSION:2.0
PRODID:-//Volt Europa//Events//EN
CALSCALE:GREGORIAN
METHOD:PUBLISH
BEGIN:VEVENT
UID:2040112-bezoekep-1705062600@voltbelgium.org
DTSTAMP:20260425T181138Z
DTSTART;TZID=Europe/Amsterdam:20240112T133000
DTEND;TZID=Europe/Amsterdam:20240112T200000
SUMMARY:Bezoek Europees Parlement
DESCRIPTION:Ben je geïnteresseerd om meer te weten te komen over het Europ
 ees Parlement\, de vooruitzichten voor de Europese verkiezingen van 2024 en
  de campagne? Schrijf je dan in voor het bezoek aan het Europees Parlement 
 op 12 januari! Het programma begint om 13:30 en omvat een introductie tot h
 et Europees Parlement\, een bezoek aan de ALDE Partij en presentaties door 
 verschillende professionals op het gebied van politieke communicatie\, even
 als medewerkers van de kantoren van Sophie in 't Veld en Damian Bo
LOCATION:Europees Parlement\, Brussel
URL:https://voltbelgie.org/agenda/2040112-bezoekep
END:VEVENT
END:VCALENDAR
