BEGIN:VCALENDAR
VERSION:2.0
PRODID:-//Volt Europa//Events//EN
CALSCALE:GREGORIAN
METHOD:PUBLISH
BEGIN:VEVENT
UID:algemene-vergadering-februari-2025-1738998000@voltbelgium.org
DTSTAMP:20260423T121531Z
DTSTART;TZID=Europe/Amsterdam:20250208T080000
DTEND;TZID=Europe/Amsterdam:20250208T190000
SUMMARY:Algemene vergadering februari 2025
DESCRIPTION:Praktisch Datum: 8 februari 2025\, 09.30 - 16.30 + afterparty/d
 rankje Locatie: VUB - Vrije Universiteit Brussel Building D\, 1050 Elsene\,
  België (Zaal: D.0.07 - Verdieping: -1) Lunch wordt aangeboden (variatie v
 an veganistische\, vegetarische en andere belegde broodjes) Thee\, koffie\,
  water is beschikbaar. We bevelen aan om zelf een mok en een hervulbare fle
 s mee te brengen. De Algemene Vergadering wordt voorgezeten door Voltleden 
 Xander Rzepka & Anouschka Defraeye Kaart van de VUB\, met aanduiding v
LOCATION:VUB - Vrije Universiteit Brussel Gebouw D\, 1050 Elsene\, België 
 (Zaal: D.0.07)
URL:https://voltbelgie.org/agenda/algemene-vergadering-februari-2025
END:VEVENT
END:VCALENDAR
