BEGIN:VCALENDAR
VERSION:2.0
PRODID:-//Volt Europa//Events//EN
CALSCALE:GREGORIAN
METHOD:PUBLISH
BEGIN:VEVENT
UID:aperodebat-europa-bewonen-1745510400@voltbelgium.org
DTSTAMP:20260423T105132Z
DTSTART;TZID=Europe/Amsterdam:20250424T180000
DTEND;TZID=Europe/Amsterdam:20250424T190000
SUMMARY:ApÃ©rodebat: Europa bewonen
DESCRIPTION:Iedereen is welkom en het evenement is kosteloos. Talen: FR ðŸ‡
 «ðŸ‡· EN ðŸ‡¬ðŸ‡§ NL ðŸ‡³ðŸ‡± IT ðŸ‡®ðŸ‡¹ Een stabiele en kwaliteitsvolle w
 oning vinden in Brussel\, is een proces dat qua timing en betrokkenheid lij
 kt op het politieke project van het gemeenschappelijk Europees huis. Niet o
 verdreven\, het huisvestingsvraagstuk in het Brussels Hoofdstedelijk Gewest
  brengt jong en oud samen\, nieuwe en oude bewoners\, Europeanen en niet-Eu
 ropeanen\, mensen in goede en minder goede financiÃ«le situaties. Het raakt
  aan diverse aspe
LOCATION:Volt Hub\, Galerie du Cinquantenaire\, Av. de Tervuren 32-36
URL:https://voltbelgie.org/brussel/agenda/aperodebat-europa-bewonen
END:VEVENT
END:VCALENDAR
