BEGIN:VCALENDAR
VERSION:2.0
PRODID:-//Volt Europa//Events//EN
CALSCALE:GREGORIAN
METHOD:PUBLISH
BEGIN:VEVENT
UID:aperodebate-brussels-volt-bxl-2026-1773770400@voltbelgium.org
DTSTAMP:20260422T234635Z
DTSTART;TZID=Europe/Amsterdam:20260317T190000
DTEND;TZID=Europe/Amsterdam:20260317T220000
SUMMARY:Apero-debat Brussels – Volt BXL 2026
DESCRIPTION:Ideale introductie Volt: Apero-debat over de Verenigde Staten v
 an Europa Wil je in Brussel een verschil maken met Volt en mee nadenken ove
 r het beleid? Of wil je eerst Volt Europa of Volt België leren kennen? Kom
  dan gezellig kennismaken met de leden van Volt Brussel en daarbuiten!  Voo
 r deze editie hebben Teun Janssens uitgenodigd\, medewerker van de Europese
  Parlementsleden van Volt. Teun komt met ons in gesprek over hoe Volt ijver
 t voor een federaal Europa! Ben je wat later? Geen probleem\, je 
LOCATION:1e verdieping Café Merlo\, Baksteenkaai 80\, 1000 Brussel
URL:https://voltbelgie.org/brussel/agenda/aperodebate-brussels-volt-bxl-202
 6
END:VEVENT
END:VCALENDAR
