BEGIN:VCALENDAR
VERSION:2.0
PRODID:-//Volt Europa//Events//EN
CALSCALE:GREGORIAN
METHOD:PUBLISH
BEGIN:VEVENT
UID:betoging-3-jaar-oorlog-in-oekraine-1740315600@voltbelgium.org
DTSTAMP:20260423T164122Z
DTSTART;TZID=Europe/Amsterdam:20250223T140000
DTEND;TZID=Europe/Amsterdam:20250223T190000
SUMMARY:Betoging: 3 jaar oorlog in Oekraïne
DESCRIPTION:Volt België neemt deel aan een betoging om drie jaar van groot
 schalige oorlog in Oekraïne te markeren. Onze partij wil op dit beslissend
 e moment haar ondubbelzinnige steun aan Oekraïne tonen. De betoging\, geor
 ganiseerd door de NGO Promote Ukraine\, vindt plaats op 23/02 om 14.00 uur 
 op het Albertinaplein in Brussel.
LOCATION:Albertinaplein\, Brussel
URL:https://voltbelgie.org/agenda/betoging-3-jaar-oorlog-in-oekraine
END:VEVENT
END:VCALENDAR
