BEGIN:VCALENDAR
VERSION:2.0
PRODID:-//Volt Europa//Events//EN
CALSCALE:GREGORIAN
METHOD:PUBLISH
BEGIN:VEVENT
UID:bijzondere-algemene-vergadering-bav-van-volt-belgie-1710091800@voltbelg
 ium.org
DTSTAMP:20260423T121626Z
DTSTART;TZID=Europe/Amsterdam:20240310T183000
DTEND;TZID=Europe/Amsterdam:20240310T193000
SUMMARY:Bijzondere Algemene Vergadering (BAV) van Volt België
DESCRIPTION:De Kiesraad en de Raad van Bestuur van Volt België nodigen jul
 lie uit op een Bijzondere Algemene Vergadering (BAV) van Volt België op zo
 ndag 10 maart 2024 van 18:30 tot 19:30 CET\, die online zal plaatsvinden. N
 eem contact op met  de Volt België administratie  voor je stemlink en de m
 eeting link. Context: De Raad van Bestuur stelt een aantal statutenwijzigin
 gen voor\, waarvoor de leden moeten stemmen voor die ingediend kunnen worde
 n bij de Handelsrechtbank.  Tijdens de BAV van 22 februari hadden w
LOCATION:Online
URL:https://voltbelgie.org/agenda/bijzondere-algemene-vergadering-bav-van-v
 olt-belgie
END:VEVENT
END:VCALENDAR
