BEGIN:VCALENDAR
VERSION:2.0
PRODID:-//Volt Europa//Events//EN
CALSCALE:GREGORIAN
METHOD:PUBLISH
BEGIN:VEVENT
UID:brusselse-lokale-algemene-vergadering-1765391400@voltbelgium.org
DTSTAMP:20260423T121504Z
DTSTART;TZID=Europe/Amsterdam:20251210T193000
DTEND;TZID=Europe/Amsterdam:20251210T220000
SUMMARY:Brusselse Lokale Algemene Vergadering
DESCRIPTION:Volt Brussel nodigt jullie uit voor zijn volgende Lokale Algeme
 ne Vergadering! Wij zoeken kandidaten voor de twee co-voorzitter posities v
 oor Volt Brussel. Vrouwelijke en diverse Volt leden worden extra aangemoedi
 gd om zich kandidaat te stellen. Stuur uw sollicitatie voor vrijdag\, 5 dec
 ember 2025\, 18.00 uur naar  brussels@voltbelgium.org . ‼️Volt-leden di
 e stemgerechtigd zijn zullen nog een tweede mail ontvangen met het stemtoke
 n.‼️ 💜 Agenda for the Local Assembly 💜 19:30 Welkom door de City 
 Co-
LOCATION:Café Merlo\, Baksteenkaai 80\, 1000 Brussel
URL:https://voltbelgie.org/brussel/agenda/brusselse-lokale-algemene-vergade
 ring
END:VEVENT
END:VCALENDAR
