BEGIN:VCALENDAR
VERSION:2.0
PRODID:-//Volt Europa//Events//EN
CALSCALE:GREGORIAN
METHOD:PUBLISH
BEGIN:VEVENT
UID:campaign-catalyst-1712383200@voltbelgium.org
DTSTAMP:20260426T032336Z
DTSTART;TZID=Europe/Amsterdam:20240406T080000
DTEND;TZID=Europe/Amsterdam:20240407T230000
SUMMARY:Campaign Catalyst Event
DESCRIPTION:Europe is calling\, are you picking up? 2024. History holds its
  breath. 4 billion voters are back at the polls this year. But amidst the e
 choes of populism\, the far-right threatens to rise. This is your wake-up c
 all. Europe stands at a crossroads\, with 1 in 3 citizens drawn to far-righ
 t or populist forces. Left unchecked\, they threaten to become the third la
 rgest power in the European Parliament. Against this uncertainty\,  a spark
  of hope ignites: Volt.  We are here to recharge politics\, infuse f
LOCATION:Brussels
URL:https://voltbelgium.org/events/campaign-catalyst
END:VEVENT
END:VCALENDAR
