BEGIN:VCALENDAR
VERSION:2.0
PRODID:-//Volt Europa//Events//EN
CALSCALE:GREGORIAN
METHOD:PUBLISH
BEGIN:VEVENT
UID:digitale-democratie-in-actie-1714298400@voltbelgium.org
DTSTAMP:20260423T105303Z
DTSTART;TZID=Europe/Amsterdam:20240428T120000
DTEND;TZID=Europe/Amsterdam:20240428T171500
SUMMARY:Digitale democratie in actie
DESCRIPTION:Nu de Europese\, federale en regionale verkiezingen dichterbij 
 komen\, is uw stem bij het vormgeven van het digitale landschap belangrijke
 r dan ooit tijdens het Volt Discussions Series: Digital Democracy in Action
 -evenement aanstaande zondag: - Laten we desinformatie en online haatzaaien
 de uitlatingen aanpakken\, en tegelijkertijd de vrijheid van meningsuiting 
 en de privacy beschermen. - Ontdek hoe we wereldwijd het voortouw kunnen ne
 men met digitale technologieën\, zoals AI\, chiptechnologie en quan
LOCATION:Mundo Madou\, Avenue des Arts 7-8\, 1210 Brussels
URL:https://voltbelgie.org/agenda/digitale-democratie-in-actie
END:VEVENT
END:VCALENDAR
