BEGIN:VCALENDAR
VERSION:2.0
PRODID:-//Volt Europa//Events//EN
CALSCALE:GREGORIAN
METHOD:PUBLISH
BEGIN:VEVENT
UID:discussieavond-omtrent-intergenerationele-solidariteit-1765389600@voltb
 elgium.org
DTSTAMP:20260423T085707Z
DTSTART;TZID=Europe/Amsterdam:20251210T190000
DTEND;TZID=Europe/Amsterdam:20251210T220000
SUMMARY:Discussieavond omtrent intergenerationele solidariteit
DESCRIPTION:Waar Café Monopole\, Kon. Elisabethlaan 65\, 9000 Gent Uur 19u
 -22u Toegang Gratis:  iedereen is welkom We bespreken informeel het thema "
  intergenerationele solidariteit ". Volt voorziet een aantal stellingen a
 chter de hand om het debat aan te vuren.  Iedereen krijgt de kans zijn meni
 ng en ideeën voor te leggen\, maar gewoon meeluisteren kan ook . Praktisch
  Het is geen probleem als je wat later bent. Het einduur is vrij te interpr
 eteren\, je kan gerust vroeger of later vertrekken. Het café bevindt z
LOCATION:Café Monopole\, Kon. Elisabethlaan 65\, 9000 Gent
URL:https://voltbelgie.org/oost-vlaanderen/agenda/discussieavond-omtrent-in
 tergenerationele-solidariteit
END:VEVENT
END:VCALENDAR
