BEGIN:VCALENDAR
VERSION:2.0
PRODID:-//Volt Europa//Events//EN
CALSCALE:GREGORIAN
METHOD:PUBLISH
BEGIN:VEVENT
UID:elections-roundtable-youth-eu-1718208000@voltbelgium.org
DTSTAMP:20260423T180025Z
DTSTART;TZID=Europe/Amsterdam:20240612T180000
DTEND;TZID=Europe/Amsterdam:20240612T210000
SUMMARY:Volt goes 'Elections Roundtable: How can the youth shape the EU?'
DESCRIPTION:Our Co-President and Brussels Lead-Candidates Carlo Giudice was
  invited as a speaker by JEF and Centre for European Progression for Wednes
 day's discussion on youth and the European elections results ๐๐ป Hope 
 to see you numerous! 6.00 pm at European Press Club (Rue Froissart 95)  ๐
 ๐ป Sign up here:  https://www.linkedin.com/events/electionsroundtable-ho
 wcantheyo7196763054905135104/about/
LOCATION:Press Club Brussels Europe\, Rue Froissart 95\, Brussel\, Rรฉgion 
 De Bruxelles-capitale\, BE\, 1040
URL:https://voltbelgium.org/events/elections-roundtable-youth-eu
END:VEVENT
END:VCALENDAR
