BEGIN:VCALENDAR
VERSION:2.0
PRODID:-//Volt Europa//Events//EN
CALSCALE:GREGORIAN
METHOD:PUBLISH
BEGIN:VEVENT
UID:general-assembly-31-08-2024-1725091200@voltbelgium.org
DTSTAMP:20260423T175940Z
DTSTART;TZID=Europe/Amsterdam:20240831T100000
DTEND;TZID=Europe/Amsterdam:20240831T163000
SUMMARY:General Assembly - Volt Belgium 31-08-2024
DESCRIPTION:Practicalities Date: 31st of August 2024\, 10.00 - 16.05 Locati
 on: Silversquare Guillemins - espace de coworking (Liege)\,  Esplanade Simo
 ne Veil 1\, 4000 Liège Lunch will be offered (variety of vegan\, vegetaria
 n and other sandwiches) Tea\, coffee\, water is available. We recommend you
  to bring a refillable bottle The General Assembly will be chaired by Volt 
 member Kim Smouter Agenda Morning 10.00 - 10.30 doors open\, registrations\
 , coffee 10.30 - 10.40 opening by the GA Chair\, presentation of the age
LOCATION:Silversquare Guillemins\, Liège
URL:https://voltbelgium.org/events/general-assembly-31-08-2024
END:VEVENT
END:VCALENDAR
