BEGIN:VCALENDAR
VERSION:2.0
PRODID:-//Volt Europa//Events//EN
CALSCALE:GREGORIAN
METHOD:PUBLISH
BEGIN:VEVENT
UID:leuven-get-together-1706727600@voltbelgium.org
DTSTAMP:20260423T175822Z
DTSTART;TZID=Europe/Amsterdam:20240131T200000
DTEND;TZID=Europe/Amsterdam:20240131T213000
SUMMARY:Leuven get-together
DESCRIPTION:Team-meeting and get-together in Leuven.
LOCATION:Café Tempo\, Kessel-Lo
URL:https://voltbelgie.org/agenda/leuven-get-together
END:VEVENT
END:VCALENDAR
