BEGIN:VCALENDAR
VERSION:2.0
PRODID:-//Volt Europa//Events//EN
CALSCALE:GREGORIAN
METHOD:PUBLISH
BEGIN:VEVENT
UID:meet-and-greet-volt-leuven-1722447000@voltbelgium.org
DTSTAMP:20260421T135906Z
DTSTART;TZID=Europe/Amsterdam:20240731T193000
DTEND;TZID=Europe/Amsterdam:20240731T223000
SUMMARY:Meet and greet Volt Leuven
DESCRIPTION:Wil jij de kandidaten voor de gemeenteraadsverkiezing ontmoeten
 ? Heb jij een fantastisch idee voor onze stad? Wil je meer weten over Volt?
  Zin in een drankje (en hapje)? Kom dan naar onze meeting op 31 juli. Afspr
 aak: 19:30 in cafe Tempo in Leuven.
LOCATION:Cafe Tempo - Baron August de Becker Remyplein 52 Leuven
URL:https://voltbelgie.org/agenda/meet-and-greet-volt-leuven
END:VEVENT
END:VCALENDAR
