BEGIN:VCALENDAR
VERSION:2.0
PRODID:-//Volt Europa//Events//EN
CALSCALE:GREGORIAN
METHOD:PUBLISH
BEGIN:VEVENT
UID:meet-greet-antwerpen-250225-1740508200@voltbelgium.org
DTSTAMP:20260425T173233Z
DTSTART;TZID=Europe/Amsterdam:20250225T193000
DTEND;TZID=Europe/Amsterdam:20250225T220000
SUMMARY:Meet & greet Antwerpen
DESCRIPTION:Het is tijd om elkaar te zien in Café Het Groene Hart in Groen
 plaats. Wij komen samen om iets te drinken met een gezellige praatje over p
 olitiek op het lokaal niveau. Wij hebben 5 jaar om het tij te keren en wij 
 zullen deze tijd zeker goed gebruiken 💪 Iedereen is welkom!
LOCATION:Café Het Groene Hart\, Groenplaats 23\, 2000 Antwerpen
URL:https://voltbelgie.org/antwerpen/agenda/meet-greet-antwerpen-250225
END:VEVENT
END:VCALENDAR
