BEGIN:VCALENDAR
VERSION:2.0
PRODID:-//Volt Europa//Events//EN
CALSCALE:GREGORIAN
METHOD:PUBLISH
BEGIN:VEVENT
UID:meet-greet-avril-1745254800@voltbelgium.org
DTSTAMP:20260423T121332Z
DTSTART;TZID=Europe/Amsterdam:20250421T190000
DTEND;TZID=Europe/Amsterdam:20250421T210000
SUMMARY:Meet & Greet
DESCRIPTION:Il est temps de se retrouver pour un autre Meet & Greet au cœu
 r de Bruxelles !  A l'étage du Café Merlo\, dans le quartier de Dansaert\
 , vous trouverez un endroit chaleureux pour accueillir l'arrivée du printe
 mps. Venez partager un verre et discuter de politique avec des Volters enga
 gés et présenter vos idées démocratiques innovantes à l'équipe. Ce mo
 is-ci nous avons le plaisir d'accueillir une délégation de Volt Pays-Bas\
 , du Limbourg\, en visite à Bruxelles.  Amenez vos amis\, vos collègues e
 t votr
LOCATION:Café Merlo\, Quai aux briques 80\, Bruxelles 1000
URL:https://voltbelgique.org/bruxelles/evenements/meet-greet-avril
END:VEVENT
END:VCALENDAR
