BEGIN:VCALENDAR
VERSION:2.0
PRODID:-//Volt Europa//Events//EN
CALSCALE:GREGORIAN
METHOD:PUBLISH
BEGIN:VEVENT
UID:meet-greet-brussels-in-cafe-merlo-21-mars-1711042200@voltbelgium.org
DTSTAMP:20260423T180738Z
DTSTART;TZID=Europe/Amsterdam:20240321T183000
DTEND;TZID=Europe/Amsterdam:20240321T220000
SUMMARY:Meet & Greet in Café Merlo
DESCRIPTION:Het is tijd voor de volgende Meet & Greet in het hart van Bruss
 el! Boven bij Café Merlo in de gezellige Dansaert buurt vind je een warme 
 ontmoetingsplek. Deel een drankje met betrokken Volters en praat over de po
 litiek\, of pich je nieuwste democratische innovatieve ideeën aan onze kan
 didaten. We zien je op de avond! En breng je vrienden\, collega's en famili
 e mee\, want iedereen is welkom!
LOCATION:Baksteenkaai 80\, Brussel 1000
URL:https://voltbelgie.org/agenda/meet-greet-brussels-in-cafe-merlo-21-mars
END:VEVENT
END:VCALENDAR
