BEGIN:VCALENDAR
VERSION:2.0
PRODID:-//Volt Europa//Events//EN
CALSCALE:GREGORIAN
METHOD:PUBLISH
BEGIN:VEVENT
UID:meet-greet-gent-1-1729186200@voltbelgium.org
DTSTAMP:20260424T013357Z
DTSTART;TZID=Europe/Amsterdam:20241017T193000
DTEND;TZID=Europe/Amsterdam:20241017T233000
SUMMARY:Meet & Greet Gent
DESCRIPTION:De vijfvoudige verkiezingen in België zijn op zijn einde\, tij
 d voor wat ontspanning! Ontmoet de leden van Volt Oost- en West-Vlaanderen\
 , bespreek hun verkiezingservaring en leer meer over ons toekomstplannen.
LOCATION:Eltòn\, Kon. Maria Hendrikaplein 36\, 9000 Gent
URL:https://voltbelgie.org/west-vlaanderen/agenda/meet-greet-gent-1
END:VEVENT
END:VCALENDAR
