BEGIN:VCALENDAR
VERSION:2.0
PRODID:-//Volt Europa//Events//EN
CALSCALE:GREGORIAN
METHOD:PUBLISH
BEGIN:VEVENT
UID:meet-greet-ieper-1776963600@voltbelgium.org
DTSTAMP:20260421T095320Z
DTSTART;TZID=Europe/Amsterdam:20260423T190000
DTEND;TZID=Europe/Amsterdam:20260423T220000
SUMMARY:Meet & Greet Ieper
DESCRIPTION:Waar Marktcafé Les Halles Grote Markt 35 8900 Ieper Uur 19u-22
 u Toegang Gratis Na een topeditie in Brugge trekken we naar de andere kant 
 van de provincie! Wil je lokaal een verschil maken met Volt en mee nadenken
  over het beleid? Of wil je eerst meer ontdekken over Volt Europa of Volt B
 elgië? Dit is jouw kans om kennis te maken! Kom gezellig kennismaken met d
 e leden van Volt Oost- en West-Vlaanderen! Drink samen met ons een pintje o
 f een cola en ontdek hoe wij naar de toekomst kijken.
LOCATION:Marktcafé Les Halles\, Grote Markt 35\, 8900 Ieper
URL:https://voltbelgie.org/west-vlaanderen/agenda/meet-greet-ieper
END:VEVENT
END:VCALENDAR
