BEGIN:VCALENDAR
VERSION:2.0
PRODID:-//Volt Europa//Events//EN
CALSCALE:GREGORIAN
METHOD:PUBLISH
BEGIN:VEVENT
UID:meet-greet-with-the-candidates-of-the-dutch-speaking-list-to-the-europe
 an-parliament-1709751600@voltbelgium.org
DTSTAMP:20260423T110117Z
DTSTART;TZID=Europe/Amsterdam:20240306T200000
DTEND;TZID=Europe/Amsterdam:20240306T223000
SUMMARY:Meet & Greet with the candidates of the Dutch-speaking list to the 
 European Parliament
DESCRIPTION:Do not miss the opportunity to meet our candidates\, share your
  ideas and ask them questions. We will see you on the night\, and bring you
 r friends\, colleagues and family. Everyone is welcome!
LOCATION:VinSurWijn\, Etterbeek
URL:https://voltbelgium.org/events/meet-greet-with-the-candidates-of-the-du
 tch-speaking-list-to-the-european-parliament
END:VEVENT
END:VCALENDAR
