BEGIN:VCALENDAR
VERSION:2.0
PRODID:-//Volt Europa//Events//EN
CALSCALE:GREGORIAN
METHOD:PUBLISH
BEGIN:VEVENT
UID:meet-the-candidates-of-defi-volt-saint-gilles-1728576000@voltbelgium.or
 g
DTSTAMP:20260423T121704Z
DTSTART;TZID=Europe/Amsterdam:20241010T180000
DTEND;TZID=Europe/Amsterdam:20241010T200000
SUMMARY:Meet the candidates of DéFI - Volt Saint-Gilles
DESCRIPTION:On this 10th of October\, you will have the opportunity of meet
 ing the candidates representing the Volt-DéFI list. This is your chance to
  learn about their vision\, policies and the key issues they are passionate
  about.  This event is an open forum for you to engage with the candidates\
 , ask questions and share your concerns. Your voice matters\, and this is t
 he perfect opportunity to ensure it is heard.  We are looking forward to yo
 ur presence and participation!
LOCATION:Café maison du peuple\,  Parv. de Saint-Gilles 39\, 1060 Saint-Gi
 lles
URL:https://voltbelgie.org/brussel/agenda/meet-the-candidates-of-defi-volt-
 saint-gilles
END:VEVENT
END:VCALENDAR
