BEGIN:VCALENDAR
VERSION:2.0
PRODID:-//Volt Europa//Events//EN
CALSCALE:GREGORIAN
METHOD:PUBLISH
BEGIN:VEVENT
UID:politiek-cafe-10-goed-reasons-to-support-volt-1712770200@voltbelgium.or
 g
DTSTAMP:20260423T180843Z
DTSTART;TZID=Europe/Amsterdam:20240410T193000
DTEND;TZID=Europe/Amsterdam:20240410T213000
SUMMARY:Politiek Café - Migratie
DESCRIPTION:Migratie is al lange tijd een onderwerp van levendige politieke
  discussies\, met de laatste tijd bijzondere politieke gevolgen. Mensen zwe
 rven al over de planeet zolang wij bestaan. Vaak zijn migraties ingegeven d
 oor gebrek aan voedsel (hongersnoden)\, natuurrampen\, conflicten of simpel
 weg door het zoeken naar kansen op een beter leven. Als we naar onze geschi
 edenis en de omvang van de verschijnselen kijken\, kunnen we gemakkelijk co
 ncluderen dat migraties in de toekomst zullen blijven bestaan\, en 
LOCATION:Café Tempo - Baron August de Becker Remyplein 52\, 3010 Leuven
URL:https://voltbelgie.org/agenda/politiek-cafe-10-goed-reasons-to-support-
 volt
END:VEVENT
END:VCALENDAR
