BEGIN:VCALENDAR
VERSION:2.0
PRODID:-//Volt Europa//Events//EN
CALSCALE:GREGORIAN
METHOD:PUBLISH
BEGIN:VEVENT
UID:politiek-cafe-agriculture-brussels-in-cafe-merlo-26-march-1-1711474200@
 voltbelgium.org
DTSTAMP:20260423T140458Z
DTSTART;TZID=Europe/Amsterdam:20240326T183000
DTEND;TZID=Europe/Amsterdam:20240326T220000
SUMMARY:Politiek Café: Van de landbouw een instrument maken tegen het verl
 ies aan biodiversiteit en de klimaatverandering
DESCRIPTION:Het is tijd voor een Politiek café in hartje Brussel! Luister 
 en praat mee met erkende professionals en betrokken Volters en pitch uw eig
 en mening en ideeën om de discussie te verrijken. Sprekers Moderatie:  Eri
 ka Schulze \, co-leider van de stad Volt Brussel Suzana Carp \, specialist 
 Europees klimaatbeleid en Volt-hoofdkandidaat voor de Europees Franstalige 
 lijst van Volt België Kristine De Schamphelaere \, bio-ingenieur en beleid
 smedewerker landbouw bij Pesticide Action Network (PAN) Europe op Na
LOCATION:Baksteenkaai 80\, Brussel 1000
URL:https://voltbelgie.org/agenda/politiek-cafe-agriculture-brussels-in-caf
 e-merlo-26-march-1
END:VEVENT
END:VCALENDAR
