BEGIN:VCALENDAR
VERSION:2.0
PRODID:-//Volt Europa//Events//EN
CALSCALE:GREGORIAN
METHOD:PUBLISH
BEGIN:VEVENT
UID:politieke-babbel-onderwijs-en-de-jeugd-1771524000@voltbelgium.org
DTSTAMP:20260422T092159Z
DTSTART;TZID=Europe/Amsterdam:20260219T190000
DTEND;TZID=Europe/Amsterdam:20260219T220000
SUMMARY:Politieke Babbel: Onderwijs en de jeugd
DESCRIPTION:Iedereen is welkom en het evenement is kosteloos. Volt Oost-Vla
 anderen nodigt je uit voor de politieke babbel: onderwijs en jeugd in Gent 
 & Vlaanderen. We gaan in gesprek over hoe we ons onderwijs kunnen hervormen
  naar de noden van de jeugd. Na een korte presentatie duiken we meteen in e
 en open discussie met prikkelende stellingen. Geen saaie monoloog\, wel een
  echt gesprek waar jouw mening telt! Kom meepraten over de toekomst van jou
 w onderwijs. Iedereen welkom! 🗣️ Wat: Politieke Babbel: Onderwi
LOCATION:Ship & Sip\, Handelsdokkaai 18w\, 9000 Gent
URL:https://voltbelgie.org/oost-vlaanderen/agenda/politieke-babbel-onderwij
 s-en-de-jeugd
END:VEVENT
END:VCALENDAR
