BEGIN:VCALENDAR
VERSION:2.0
PRODID:-//Volt Europa//Events//EN
CALSCALE:GREGORIAN
METHOD:PUBLISH
BEGIN:VEVENT
UID:post-brexit-transitie-voor-britse-burgers-in-de-eu-1711562400@voltbelgi
 um.org
DTSTAMP:20260423T121652Z
DTSTART;TZID=Europe/Amsterdam:20240327T190000
DTEND;TZID=Europe/Amsterdam:20240327T210000
SUMMARY:Post-Brexit-transitie voor Britse burgers in de EU
DESCRIPTION:De komende EU-verkiezingen zijn de eerste sinds de Brexit. Als 
 zodanig vertegenwoordigt het de eerste verkiezingen waarbij Britse burgers 
 geen stem kunnen uitbrengen op parlementsleden die hen in het Europees Parl
 ement zullen vertegenwoordigen. Dit\, in combinatie met het gebrek aan vert
 egenwoordiging door politieke partijen op nationaal niveau\, heeft bijgedra
 gen aan de recente bevindingen van de Universiteit van Strathclyde. Waarbij
  is vastgesteld dat 90% van de Britse burgers die in de EU wonen
LOCATION:Montoyerstraat 1/32\, Brussel - Maison des Ailes
URL:https://voltbelgie.org/agenda/post-brexit-transitie-voor-britse-burgers
 -in-de-eu
END:VEVENT
END:VCALENDAR
