BEGIN:VCALENDAR
VERSION:2.0
PRODID:-//Volt Europa//Events//EN
CALSCALE:GREGORIAN
METHOD:PUBLISH
BEGIN:VEVENT
UID:publiek-cross-party-debat-democratische-vernieuwing-1771439400@voltbelg
 ium.org
DTSTAMP:20260426T000254Z
DTSTART;TZID=Europe/Amsterdam:20260218T193000
DTEND;TZID=Europe/Amsterdam:20260218T223000
SUMMARY:Publiek cross-party debat: Democratische vernieuwing
DESCRIPTION:Waar Provinciehuis Charles de Kerchovelaan 189\, 9000 Gent Uur 
 19u30-22u30 Toegang Gratis:  iedereen is welkom via inschrijving Veel mense
 n maken zich zorgen over onze democratie\, over bedreigingen van binnenuit 
 en van buitenaf. Functioneert ons democratisch bestel nog naar behoren? Waa
 rom haken steeds meer mensen af of uiten ze proteststemmen? Er is al jaren 
 veel discussie over de noodzaak tot democratische vernieuwing in België\, 
 maar in de praktijk is er nauwelijks beweging. Hoe krijgen we de h
LOCATION:Provinciehuis\, Charles de Kerchovelaan 189\, 9000 Gent
URL:https://voltbelgie.org/oost-vlaanderen/agenda/publiek-cross-party-debat
 -democratische-vernieuwing
END:VEVENT
END:VCALENDAR
