BEGIN:VCALENDAR
VERSION:2.0
PRODID:-//Volt Europa//Events//EN
CALSCALE:GREGORIAN
METHOD:PUBLISH
BEGIN:VEVENT
UID:schengen-luxemburg-europadag-schenge-nlnmars-1715245200@voltbelgium.org
DTSTAMP:20260423T121811Z
DTSTART;TZID=Europe/Amsterdam:20240509T110000
DTEND;TZID=Europe/Amsterdam:20240509T230000
SUMMARY:Europadag - Schengenmars
DESCRIPTION:In 2019 kwamen verschillende delen van Volt bijeen voor een gre
 nsoverschrijdende mars bij de driehoeksgrens tussen Frankrijk\, Duitsland e
 n Luxemburg. Vijf jaar later herscheppen we dit succesvolle evenement om he
 t pan-Europese karakter van onze politieke beweging te laten zien. Dit even
 ement zal plaatsvinden op 9 mei\, wanneer de Europese Unie de Dag van Europ
 a viert ter herdenking van de Schuman-verklaring\, die nu wordt beschouwd a
 ls de oprichtingsakte van de EU. Donderdag 9 mei 2024 10.00 Opbou
LOCATION:Rue Robert Goebbels\, 5444 Schengen\, Luxembourg
URL:https://voltbelgie.org/agenda/schengen-luxemburg-europadag-schenge-nlnm
 ars
END:VEVENT
END:VCALENDAR
