BEGIN:VCALENDAR
VERSION:2.0
PRODID:-//Volt Europa//Events//EN
CALSCALE:GREGORIAN
METHOD:PUBLISH
BEGIN:VEVENT
UID:semaine-des-droits-de-la-femme-fr-1741887000@voltbelgium.org
DTSTAMP:20260423T105526Z
DTSTART;TZID=Europe/Amsterdam:20250313T183000
DTEND;TZID=Europe/Amsterdam:20250313T213000
SUMMARY:Semaine des droits de la femme [FR]
DESCRIPTION:Les femmes de Volt Belgique vous invitent ‼️le 13 mars 2025
 \, à partir de 18.30 h\, au Hub de Volt\, Galeries du Cinquantenaire\, Ave
 nue de Tervuren 32-36 (en français) ‼️Le programme 18.30 Portes ouvert
 es 19.00 Réception  par Marie Le Mouel et Erika Schulze\, coordinatrices d
 e Volt Bruxelles 19.10 Introduction au thème de la santé des femmes en Be
 lgique Vanessa Gorasso\, Sciensano 19.20 Q&A et Discussion 19.50 Des coûts
  de la santé pour les femmes en Belgique\, Université des femmes 20.00 Q&
 A et discu
LOCATION:Hub de Volt\, Galeries du Cinquantenaire\, Avenue de Tervuren 32-3
 6
URL:https://voltbelgie.org/brussel/agenda/semaine-des-droits-de-la-femme-fr
END:VEVENT
END:VCALENDAR
