BEGIN:VCALENDAR
VERSION:2.0
PRODID:-//Volt Europa//Events//EN
CALSCALE:GREGORIAN
METHOD:PUBLISH
BEGIN:VEVENT
UID:social-media-workshop-antwerpen-2-1714224600@voltbelgium.org
DTSTAMP:20260423T180031Z
DTSTART;TZID=Europe/Amsterdam:20240427T153000
DTEND;TZID=Europe/Amsterdam:20240427T173000
SUMMARY:Social media workshop - Deel 2 van 2
DESCRIPTION:Tijdens deze sessie leren we hoe we materiaal (scripts\
 , foto's en video's) kunnen opnemen voor posts op sociale media (v
 erhalen\, reels\, ...). De workshop zal praktisch van aard zijn\, dus
  trek je beste (paarse) kleding aan en dan gaan wij de straat o
 p om virale content te maken.  Uw laptop is welkom tijdens de ses
 sie. Het is niet nodig om bij beide workshops aanwezig te zijn\, 
 je kunt deel 2\, ook als je de eerste workshop niet hebt gevolgd. Taal: 
 nederlands\, met vertaling naar het Engels indien no
LOCATION:Via Via Reiscafe Antwerpen. Wolstraat 43\, 2000 Antwerpen
URL:https://voltbelgie.org/agenda/social-media-workshop-antwerpen-2
END:VEVENT
END:VCALENDAR
