BEGIN:VCALENDAR
VERSION:2.0
PRODID:-//Volt Europa//Events//EN
CALSCALE:GREGORIAN
METHOD:PUBLISH
BEGIN:VEVENT
UID:social-media-workshop-antwerpen-1713375000@voltbelgium.org
DTSTAMP:20260425T172313Z
DTSTART;TZID=Europe/Amsterdam:20240417T193000
DTEND;TZID=Europe/Amsterdam:20240417T213000
SUMMARY:Social media workshop - Deel 1 van 2
DESCRIPTION:TijdensÂ dezeÂ workshopÂ debatterenÂ we overÂ enkeleÂ politieke
 Â onderwerpenÂ die relevantÂ zijnÂ voorÂ onzeÂ stad\,Â Antwerpen.Â DeÂ onde
 rwerpenÂ wordenÂ aanÂ het begin van deÂ sessieÂ geselecteerdÂ enÂ inÂ klein
 eÂ groepenÂ besproken.Â DeÂ conclusiesÂ vanÂ elkeÂ groepÂ zullenÂ wordenÂ g
 ebruiktÂ voorÂ hetÂ tweedeÂ deelÂ van de workshop op 27/04\,Â waarÂ weÂ zul
 lenÂ lerenÂ over hetÂ gebruikÂ vanÂ socialeÂ mediaÂ voorÂ deÂ campagne. UwÂ
  laptop isÂ welkomÂ tijdensÂ deÂ sessie.Â Het isÂ nietÂ nodigÂ omÂ bijÂ bei
 deÂ workshopsÂ aanwezigÂ teÂ zijn\, jeÂ kuntÂ deelÂ 1 ofÂ d
LOCATION:CafÃ© des Arts - Boomgaardstraat 350\, 2600 Antwerpen
URL:https://voltbelgie.org/agenda/social-media-workshop-antwerpen
END:VEVENT
END:VCALENDAR
