BEGIN:VCALENDAR
VERSION:2.0
PRODID:-//Volt Europa//Events//EN
CALSCALE:GREGORIAN
METHOD:PUBLISH
BEGIN:VEVENT
UID:the-woman-behind-the-image-wereldvrouwenmars-1741438800@voltbelgium.org
DTSTAMP:20260425T172737Z
DTSTART;TZID=Europe/Amsterdam:20250308T140000
DTEND;TZID=Europe/Amsterdam:20250308T170000
SUMMARY:The Woman Behind the Image & Wereldvrouwenmars
DESCRIPTION:Koffie en gebak met  Karima El Hachimi \, bestuurslid van Volt 
 België\, om te praten over  " De vrouw achter het beeld - hoe patriarchale
 \, ideologische en culturele ideeën onze kijk op een persoon beïnvloeden.
 "   Dit evenement is uitsluitend in het Engels. Daarna sluiten we ons aan b
 ij de  Wereldvrouwenmars \, die om 15.00 uur start op het Albertinaplein. W
 e kijken ernaar uit om jullie later te zien\, Marie en Erika 💜Co-voorzit
 sters van Volt Brussel💜
LOCATION:Volt Hub\, Galeries du Cinquantenaire\, Avenue de Tervuren/Tervure
 nlaan 32-36
URL:https://voltbelgie.org/agenda/the-woman-behind-the-image-wereldvrouwenm
 ars
END:VEVENT
END:VCALENDAR
