BEGIN:VCALENDAR
VERSION:2.0
PRODID:-//Volt Europa//Events//EN
CALSCALE:GREGORIAN
METHOD:PUBLISH
BEGIN:VEVENT
UID:volt-antwerpen-langetermijnstrategie-1727528400@voltbelgium.org
DTSTAMP:20260423T140802Z
DTSTART;TZID=Europe/Amsterdam:20240928T150000
DTEND;TZID=Europe/Amsterdam:20240928T190000
SUMMARY:Volt Antwerpen - Langetermijnstrategie
DESCRIPTION:Terwijl de campagne voor de lokale verkiezingen in volle gang i
 s\, nodigen wij u graag uit voor een strategische sessie om de  langetermij
 nrichting van Volt Antwerpen  te bespreken en vast te leggen.  Tijdens deze
  sessie zullen we gezamenlijk de toekomstige koers bepalen en deze vertalen
  naar  concrete doelen en mijlpalen voor de middellange en korte termijn . 
  Volt staat voor  burgerparticipatie . Met dit initiatief willen we de prin
 cipes van participatieve democratie belichamen. Dit is uw kans 
LOCATION:De Peperfabriek - Breughelstraat 31\, 2018 Antwerpen
URL:https://voltbelgie.org/agenda/volt-antwerpen-langetermijnstrategie
END:VEVENT
END:VCALENDAR
