BEGIN:VCALENDAR
VERSION:2.0
PRODID:-//Volt Europa//Events//EN
CALSCALE:GREGORIAN
METHOD:PUBLISH
BEGIN:VEVENT
UID:volt-antwerpen-meet-greet-met-onze-lijsttrekkers-1717174800@voltbelgium
 .org
DTSTAMP:20260425T173155Z
DTSTART;TZID=Europe/Amsterdam:20240531T190000
DTEND;TZID=Europe/Amsterdam:20240531T213000
SUMMARY:Volt Antwerpen Meet & Greet met onze lijsttrekkers
DESCRIPTION:Tijdens deze meet & greet maken we kennis met de lijsttrekkers 
 voor het Federaal Parlement\, Jasper Coosemans\, en het Vlaams Parlement\, 
 Jeroen Van Loock. Jasper en Jeroen zullen hun motivatie om zich kandidaat 
 te stellen voor Volt en hun voorstellen voor Antwerpen toelichten.  Breng 
 uw enthousiasme en vragen mee voor onze kandidaten. De sessie zal in het Ne
 derlands plaatsvinden. Als u Nederlands verstaat\, maar u zich alleen op uw
  gemak voelt als u Engels of Frans spreekt\, moedigen wij u toch aan 
LOCATION:Peperfabriek - Breughelstraat 31\, 2018 Antwerpen
URL:https://voltbelgie.org/agenda/volt-antwerpen-meet-greet-met-onze-lijstt
 rekkers
END:VEVENT
END:VCALENDAR
