BEGIN:VCALENDAR
VERSION:2.0
PRODID:-//Volt Europa//Events//EN
CALSCALE:GREGORIAN
METHOD:PUBLISH
BEGIN:VEVENT
UID:volt-belgie-nationale-nieuwjaarsreceptie-2026-1768586400@voltbelgium.or
 g
DTSTAMP:20260423T121652Z
DTSTART;TZID=Europe/Amsterdam:20260116T190000
DTEND;TZID=Europe/Amsterdam:20260116T223000
SUMMARY:Volt België nationale nieuwjaarsreceptie 2026
DESCRIPTION:✨ Na de zeer geslaagde nieuwjaarsreceptie van vorig jaar in G
 ent\, kijkt het bestuur van Volt België ernaar uit om je uit te nodigen vo
 or de  nationale nieuwjaarsreceptie van Volt België 2026  — dit keer in 
  Mechelen \, op slechts een korte wandeling van het station! 🚆 Kom op  v
 rijdag 16 januari  naar een inspirerende avond vol kansen om leden van over
  het hele land te ontmoeten\, ideeën te delen\, onze verwezenlijkingen te 
 vieren en samen  2026 met frisse energie en optimisme  in te zetten. 💜
LOCATION:Reiscafé via via Mechelen (aparte zaal zolder)\, Zandpoortvest 50
 \,2800 Mechelen
URL:https://voltbelgie.org/agenda/volt-belgie-nationale-nieuwjaarsreceptie-
 2026
END:VEVENT
END:VCALENDAR
